BEGIN:VCALENDAR
VERSION:2.0
PRODID:-//Planeta Off-Road - ECPv4.6.24.1//NONSGML v1.0//EN
CALSCALE:GREGORIAN
METHOD:PUBLISH
X-WR-CALNAME:Planeta Off-Road
X-ORIGINAL-URL:https://planetaoffroad.com
X-WR-CALDESC:Eventos para Planeta Off-Road
BEGIN:VEVENT
DTSTART;TZID=America/Sao_Paulo:20250815T080000
DTEND;TZID=America/Sao_Paulo:20250817T170000
DTSTAMP:20260421T170752
CREATED:20250711T185154Z
LAST-MODIFIED:20250711T185154Z
UID:8406-1755244800-1755450000@planetaoffroad.com
SUMMARY:12ª Trilha e 11º Desafio de Canela
DESCRIPTION:12ª Trilha e 11º Desafio de Canela \nEquipe Mato ou Morro\nCanela/RS \n
URL:https://planetaoffroad.com/index.php/event/12a-trilha-e-11o-desafio-de-canela/
CATEGORIES:Passeios e Expedições
ATTACH;FMTTYPE=image/jpeg:https://planetaoffroad.com/wp-content/uploads/2025/07/mato.jpg
END:VEVENT
END:VCALENDAR