BEGIN:VCALENDAR
VERSION:2.0
PRODID:-//Planeta Off-Road - ECPv4.6.24.1//NONSGML v1.0//EN
CALSCALE:GREGORIAN
METHOD:PUBLISH
X-WR-CALNAME:Planeta Off-Road
X-ORIGINAL-URL:https://planetaoffroad.com
X-WR-CALDESC:Eventos para Planeta Off-Road
BEGIN:VEVENT
DTSTART;VALUE=DATE:20250802
DTEND;VALUE=DATE:20250803
DTSTAMP:20260421T170753
CREATED:20250711T160505Z
LAST-MODIFIED:20250711T160505Z
UID:8387-1754092800-1754179199@planetaoffroad.com
SUMMARY:13ª Trilha da Linha Polônia
DESCRIPTION:13ª Trilha da Linha Polônia / 7º Passeio Turístico 4×4 \nCategorias:\n• Passeio 4×4\n• Trilha 4×4 \nInscrições e mais informações: @jeepclubeitanalama_oficial \nOrganização: Jeep Clube Itanalama \n
URL:https://planetaoffroad.com/index.php/event/13a-trilha-da-linha-polonia/
LOCATION:Itaiópolis\, Santa Catarina\, Brasil
CATEGORIES:Passeios e Expedições
ATTACH;FMTTYPE=image/jpeg:https://planetaoffroad.com/wp-content/uploads/2025/07/13-linha-polonia.jpg_20250607T151207.jpg
END:VEVENT
END:VCALENDAR