BEGIN:VCALENDAR
VERSION:2.0
PRODID:-//Planeta Off-Road - ECPv4.6.24.1//NONSGML v1.0//EN
CALSCALE:GREGORIAN
METHOD:PUBLISH
X-WR-CALNAME:Planeta Off-Road
X-ORIGINAL-URL:https://planetaoffroad.com
X-WR-CALDESC:Eventos para Planeta Off-Road
BEGIN:VEVENT
DTSTART;TZID=America/Sao_Paulo:20250913T080000
DTEND;TZID=America/Sao_Paulo:20250914T170000
DTSTAMP:20260421T170558
CREATED:20250711T161508Z
LAST-MODIFIED:20250711T161508Z
UID:8392-1757750400-1757869200@planetaoffroad.com
SUMMARY:1º Off Road Fest 4x4 e 4x2
DESCRIPTION:1° OFF ROAD FEST 4×4 & 4×2 \n13 e 14 de setembro de 2025\nChácara do Zezinho – Barra do Chapéu/SP \nSábado (13/09)\nBaile com o incrível DJ Moisés – prepare-se para muita música e diversão! \nDomingo (14/09) – Passeio Off Road\nCafé da manhã: 8h00\nLargada: 9h30\nAlmoço incluso\nCamiseta exclusiva para os 70 primeiros inscritos! \nInscrição:\nR$ 80\,00 antecipado\nR$ 90\,00 no dia\n(Por pessoa) \nGaranta já sua vaga!\n📞 Moisés: (15) 99825-7991 \n
URL:https://planetaoffroad.com/index.php/event/1o-off-road-fest-4x4-e-4x2/
LOCATION:Barra do Chapéu\, Barra do Chapéu\, São Paulo\, Brasil
CATEGORIES:Passeios e Expedições
ATTACH;FMTTYPE=image/jpeg:https://planetaoffroad.com/wp-content/uploads/2025/07/1-off-road-fest.jpg_20250742T115842.jpg
END:VEVENT
END:VCALENDAR