BEGIN:VCALENDAR
VERSION:2.0
PRODID:-//Planeta Off-Road - ECPv4.6.24.1//NONSGML v1.0//EN
CALSCALE:GREGORIAN
METHOD:PUBLISH
X-WR-CALNAME:Planeta Off-Road
X-ORIGINAL-URL:https://planetaoffroad.com
X-WR-CALDESC:Eventos para Planeta Off-Road
BEGIN:VEVENT
DTSTART;TZID=America/Sao_Paulo:20201122T080000
DTEND;TZID=America/Sao_Paulo:20201123T170000
DTSTAMP:20260421T212545
CREATED:20200914T145028Z
LAST-MODIFIED:20200914T145028Z
UID:4639-1606032000-1606150800@planetaoffroad.com
SUMMARY:Campeonato Carioca de Rally
DESCRIPTION:2ª e 3ª etapas\nSanta Maria Madalena/RJ \nInfos: (21) 99753-4999 \n
URL:https://planetaoffroad.com/index.php/event/campeonato-carioca-de-rally/
LOCATION:Santa Maria Madalena\, Santa Maria Madalena\, RJ\, Brasil
CATEGORIES:Rally de Regularidade
ATTACH;FMTTYPE=image/jpeg:https://planetaoffroad.com/wp-content/uploads/2020/09/carioca.jpg
END:VEVENT
END:VCALENDAR