BEGIN:VCALENDAR
VERSION:2.0
PRODID:-//Planeta Off-Road - ECPv4.6.24.1//NONSGML v1.0//EN
CALSCALE:GREGORIAN
METHOD:PUBLISH
X-WR-CALNAME:Planeta Off-Road
X-ORIGINAL-URL:https://planetaoffroad.com
X-WR-CALDESC:Eventos para Planeta Off-Road
BEGIN:VEVENT
DTSTART;TZID=America/Sao_Paulo:20190107T080000
DTEND;TZID=America/Sao_Paulo:20190119T170000
DTSTAMP:20260421T225534
CREATED:20181129T180432Z
LAST-MODIFIED:20181129T180432Z
UID:3344-1546848000-1547917200@planetaoffroad.com
SUMMARY:Expedição Caminhos do Dakar 2019
DESCRIPTION:A Expedição Caminhos do Dakar 2019 irá explorar as mais belas e inóspitas paisagens da Cordilheira dos Andes onde o Rally Dakar já passou por 10 anos seguidos. Iremos passar por paisagens estonteantes de tanta beleza em regiões absolutamente intocadas! Você pode ir com a sua pick-up VW Amarok ou com um veículos 4×4 de qualquer marca.\nSerão 13 dias e 12 noites atravessando a Argentina\, curtindo as melhores opções gastronômicas\, fazendo novos amigos e se hospedando nos melhores hotéis de cada cidade. \n
URL:https://planetaoffroad.com/index.php/event/expedicao-caminhos-do-dakar-2019/
LOCATION:Cordilheira dos Andes\, Argentina
CATEGORIES:Passeios e Expedições
ATTACH;FMTTYPE=image/jpeg:https://planetaoffroad.com/wp-content/uploads/2018/11/Red_MontanhasColoridas3-1.jpg
ORGANIZER;CN="Territ%C3%B3rio%20Amarok":MAILTO:contato@territorioamarok.com.br
END:VEVENT
END:VCALENDAR