BEGIN:VCALENDAR
VERSION:2.0
PRODID:-//Planeta Off-Road - ECPv4.6.24.1//NONSGML v1.0//EN
CALSCALE:GREGORIAN
METHOD:PUBLISH
X-WR-CALNAME:Planeta Off-Road
X-ORIGINAL-URL:https://planetaoffroad.com
X-WR-CALDESC:Eventos para Planeta Off-Road
BEGIN:VEVENT
DTSTART;TZID=America/Sao_Paulo:20210731T080000
DTEND;TZID=America/Sao_Paulo:20210801T170000
DTSTAMP:20260421T195123
CREATED:20210302T232520Z
LAST-MODIFIED:20210302T232520Z
UID:4890-1627718400-1627837200@planetaoffroad.com
SUMMARY:Ibitipoca Off-Road
DESCRIPTION:Ibitipoca Off Road\, o rally de regularidade mais charmoso do Brasil \nVálido como 3ª e 4ª etapas do Novo Rally MG \n
URL:https://planetaoffroad.com/index.php/event/ibitipoca-off-road-2/
LOCATION:Ibitipoca/MG\, Ibitipoca\, Minas Gerais\, Brasil
CATEGORIES:Rally de Regularidade
ATTACH;FMTTYPE=image/jpeg:https://planetaoffroad.com/wp-content/uploads/2021/03/Ibitipoca-offroad-2021.jpg
END:VEVENT
END:VCALENDAR