BEGIN:VCALENDAR
VERSION:2.0
PRODID:-//Planeta Off-Road - ECPv4.6.24.1//NONSGML v1.0//EN
CALSCALE:GREGORIAN
METHOD:PUBLISH
X-WR-CALNAME:Planeta Off-Road
X-ORIGINAL-URL:https://planetaoffroad.com
X-WR-CALDESC:Eventos para Planeta Off-Road
BEGIN:VEVENT
DTSTART;TZID=America/Sao_Paulo:20250816T080000
DTEND;TZID=America/Sao_Paulo:20250817T170000
DTSTAMP:20260421T170250
CREATED:20250711T164021Z
LAST-MODIFIED:20250711T164021Z
UID:8396-1755331200-1755450000@planetaoffroad.com
SUMMARY:Ibitipoca Off-Road
DESCRIPTION:O Rally mais charmoso do Brasil!\nIbitipoca Off Road (IOR) é considerado um dos enduros de regularidade mais tradicionais do país.\nO caráter competitivo e as paisagens encontradas atraem pessoas de todo o país\, entre os melhores pilotos e navegadores do Brasil. \nVálido como etapa do Novo Rally MG \n15 de agosto\nSuprema JF (Alameda Salvaterra\, 200)\nEntrega de material e Vistoria \n16 de agosto\nLargada | Juiz de Fora/MG – Suprema\nNeutro | Lima Duarte/MG – Armazém de Minas\nChegada | Ibitipoca/MG – Hotel Alphaville \n17 de agosto\nLargada | Ibitipoca/MG\nNeutro | Lima Duarte/MG – Armazém de Minas\nChegada | Juiz de Fora/MG – Suprema \n
URL:https://planetaoffroad.com/index.php/event/ibitipoca-off-road-3/
LOCATION:Juiz de Fora\, Juiz de Fora\, Minas Gerais\, Brasil
ATTACH;FMTTYPE=image/jpeg:https://planetaoffroad.com/wp-content/uploads/2025/07/ibitipoca.jpg
END:VEVENT
END:VCALENDAR