BEGIN:VCALENDAR
VERSION:2.0
PRODID:-//Planeta Off-Road - ECPv4.6.24.1//NONSGML v1.0//EN
CALSCALE:GREGORIAN
METHOD:PUBLISH
X-WR-CALNAME:Planeta Off-Road
X-ORIGINAL-URL:https://planetaoffroad.com
X-WR-CALDESC:Eventos para Planeta Off-Road
BEGIN:VEVENT
DTSTART;TZID=America/Sao_Paulo:20200801T080000
DTEND;TZID=America/Sao_Paulo:20200802T170000
DTSTAMP:20260421T211531
CREATED:20191205T034141Z
LAST-MODIFIED:20191205T034141Z
UID:3805-1596268800-1596387600@planetaoffroad.com
SUMMARY:Ibitipoca Off-Road
DESCRIPTION:Edição dourada! A prova de 31 anos do IOR tem na logo a cor dourada e retrata a explosão de sentimentos que unem o pôr do sol de Ibitipoca\, motos\, carros e elementos da natureza\, no final de semana mais incrível e charmoso do ano. Uma logo que consolida o amadurecimento do IOR como um evento comprometido com os participantes\, autoridades\, opinião pública\, patrocinadores e\, sempre\, com uma trilha desafiadora\, trazendo uma nova aventura a cada ano. \n
URL:https://planetaoffroad.com/index.php/event/ibitipoca-off-road/
LOCATION:Ibitipoca/MG\, Ibitipoca\, Minas Gerais\, Brasil
CATEGORIES:Rally de Regularidade
ATTACH;FMTTYPE=image/jpeg:https://planetaoffroad.com/wp-content/uploads/2019/12/ibitipoca.jpg
END:VEVENT
END:VCALENDAR