BEGIN:VCALENDAR
VERSION:2.0
PRODID:-//Planeta Off-Road - ECPv4.6.24.1//NONSGML v1.0//EN
CALSCALE:GREGORIAN
METHOD:PUBLISH
X-WR-CALNAME:Planeta Off-Road
X-ORIGINAL-URL:https://planetaoffroad.com
X-WR-CALDESC:Eventos para Planeta Off-Road
BEGIN:VEVENT
DTSTART;TZID=America/Sao_Paulo:20191019T080000
DTEND;TZID=America/Sao_Paulo:20191019T170000
DTSTAMP:20260421T211800
CREATED:20181214T202832Z
LAST-MODIFIED:20181214T202832Z
UID:3408-1571472000-1571504400@planetaoffroad.com
SUMMARY:Mitsubishi Cup - 6ª etapa
DESCRIPTION:Mitsubishi Cup \n6ª etapa \nMagda/SP \n
URL:https://planetaoffroad.com/index.php/event/mitsubishi-cup-6a-etapa/
LOCATION:Magda/SP\, Magda\, São Paulo\, Brasil
CATEGORIES:Rally Cross-Country
ATTACH;FMTTYPE=image/jpeg:https://planetaoffroad.com/wp-content/uploads/2018/12/eventos_mit_cup.jpg
END:VEVENT
END:VCALENDAR