BEGIN:VCALENDAR
VERSION:2.0
PRODID:-//Planeta Off-Road - ECPv4.6.24.1//NONSGML v1.0//EN
CALSCALE:GREGORIAN
METHOD:PUBLISH
X-WR-CALNAME:Planeta Off-Road
X-ORIGINAL-URL:https://planetaoffroad.com
X-WR-CALDESC:Eventos para Planeta Off-Road
BEGIN:VEVENT
DTSTART;VALUE=DATE:20210529
DTEND;VALUE=DATE:20210530
DTSTAMP:20260421T182945
CREATED:20210302T234739Z
LAST-MODIFIED:20210428T214922Z
UID:4897-1622246400-1622332799@planetaoffroad.com
SUMMARY:Mitsubishi Motorsports
DESCRIPTION:Mitsubishi Motorsports – 1ª etapa \n
URL:https://planetaoffroad.com/index.php/event/mitsubishi-motorsports-2/
LOCATION:Itaipava\, Itaipava\, Rio de Janeiro\, Brasil
CATEGORIES:Rally de Regularidade
ATTACH;FMTTYPE=image/jpeg:https://planetaoffroad.com/wp-content/uploads/2021/03/mitsubishi-motorsports-2021.jpg
END:VEVENT
END:VCALENDAR