BEGIN:VCALENDAR
VERSION:2.0
PRODID:-//Planeta Off-Road - ECPv4.6.24.1//NONSGML v1.0//EN
CALSCALE:GREGORIAN
METHOD:PUBLISH
X-WR-CALNAME:Planeta Off-Road
X-ORIGINAL-URL:https://planetaoffroad.com
X-WR-CALDESC:Eventos para Planeta Off-Road
BEGIN:VEVENT
DTSTART;VALUE=DATE:20250816
DTEND;VALUE=DATE:20250817
DTSTAMP:20260421T182952
CREATED:20250711T192041Z
LAST-MODIFIED:20250711T192041Z
UID:8414-1755302400-1755388799@planetaoffroad.com
SUMMARY:Mitsubishi Motorsports
DESCRIPTION:Etapa 5 – Salvador/BA \n
URL:https://planetaoffroad.com/index.php/event/mitsubishi-motorsports-5/
LOCATION:Salvador\, Salvador\, Bahia\, Brasil
CATEGORIES:Rally de Regularidade
ATTACH;FMTTYPE=image/jpeg:https://planetaoffroad.com/wp-content/uploads/2021/03/mitsubishi-motorsports-2021.jpg
END:VEVENT
END:VCALENDAR