BEGIN:VCALENDAR
VERSION:2.0
PRODID:-//Planeta Off-Road - ECPv4.6.24.1//NONSGML v1.0//EN
CALSCALE:GREGORIAN
METHOD:PUBLISH
X-WR-CALNAME:Planeta Off-Road
X-ORIGINAL-URL:https://planetaoffroad.com
X-WR-CALDESC:Eventos para Planeta Off-Road
BEGIN:VEVENT
DTSTART;VALUE=DATE:20210501
DTEND;VALUE=DATE:20210502
DTSTAMP:20260421T183142
CREATED:20210227T050849Z
LAST-MODIFIED:20210227T050849Z
UID:4882-1619827200-1619913599@planetaoffroad.com
SUMMARY:Novo Rally MG - 2ª etapa
DESCRIPTION:Novo Rally MG \n2ª etapa \n
URL:https://planetaoffroad.com/index.php/event/novo-rally-mg-2a-etapa/
LOCATION:a definir
CATEGORIES:Rally de Regularidade
ATTACH;FMTTYPE=image/png:https://planetaoffroad.com/wp-content/uploads/2021/02/novorallymg.png
END:VEVENT
END:VCALENDAR