BEGIN:VCALENDAR
VERSION:2.0
PRODID:-//Planeta Off-Road - ECPv4.6.24.1//NONSGML v1.0//EN
CALSCALE:GREGORIAN
METHOD:PUBLISH
X-WR-CALNAME:Planeta Off-Road
X-ORIGINAL-URL:https://planetaoffroad.com
X-WR-CALDESC:Eventos para Planeta Off-Road
BEGIN:VEVENT
DTSTART;VALUE=DATE:20210911
DTEND;VALUE=DATE:20210912
DTSTAMP:20260421T183647
CREATED:20210302T231938Z
LAST-MODIFIED:20210302T231938Z
UID:4886-1631318400-1631404799@planetaoffroad.com
SUMMARY:Novo Rally MG - 5ª etapa
DESCRIPTION:Novo Rally MG \n5ª etapa \n
URL:https://planetaoffroad.com/index.php/event/novo-rally-mg-5a-etapa/
LOCATION:Tiradentes\, Tiradentes\, Minas Gerais
CATEGORIES:Rally de Regularidade
ATTACH;FMTTYPE=image/png:https://planetaoffroad.com/wp-content/uploads/2021/02/novorallymg.png
END:VEVENT
END:VCALENDAR