BEGIN:VCALENDAR
VERSION:2.0
PRODID:-//Planeta Off-Road - ECPv4.6.24.1//NONSGML v1.0//EN
CALSCALE:GREGORIAN
METHOD:PUBLISH
X-WR-CALNAME:Planeta Off-Road
X-ORIGINAL-URL:https://planetaoffroad.com
X-WR-CALDESC:Eventos para Planeta Off-Road
BEGIN:VEVENT
DTSTART;VALUE=DATE:20211002
DTEND;VALUE=DATE:20211003
DTSTAMP:20260421T183320
CREATED:20210302T232205Z
LAST-MODIFIED:20210302T232205Z
UID:4888-1633132800-1633219199@planetaoffroad.com
SUMMARY:Novo Rally MG - 6ª etapa
DESCRIPTION:Novo Rally MG \n6ª etapa \n
URL:https://planetaoffroad.com/index.php/event/novo-rally-mg-6a-etapa/
LOCATION:a definir
CATEGORIES:Rally de Regularidade
ATTACH;FMTTYPE=image/png:https://planetaoffroad.com/wp-content/uploads/2021/02/novorallymg.png
END:VEVENT
END:VCALENDAR