BEGIN:VCALENDAR
VERSION:2.0
PRODID:-//Planeta Off-Road - ECPv4.6.24.1//NONSGML v1.0//EN
CALSCALE:GREGORIAN
METHOD:PUBLISH
X-WR-CALNAME:Planeta Off-Road
X-ORIGINAL-URL:https://planetaoffroad.com
X-WR-CALDESC:Eventos para Planeta Off-Road
BEGIN:VEVENT
DTSTART;VALUE=DATE:20200926
DTEND;VALUE=DATE:20200927
DTSTAMP:20260421T200203
CREATED:20200914T144006Z
LAST-MODIFIED:20200914T144006Z
UID:4635-1601078400-1601164799@planetaoffroad.com
SUMMARY:Novo Rally MG
DESCRIPTION:Saudades dessa aventura?\nAgora ela já tem data e local marcados! \n? II ETAPA\n? 26 de SETEMBRO\n? TIRADENTES-MG \n
URL:https://planetaoffroad.com/index.php/event/novo-rally-mg/
LOCATION:Tiradentes\, Tiradentes\, Minas Gerais
CATEGORIES:Rally de Regularidade
ATTACH;FMTTYPE=image/jpeg:https://planetaoffroad.com/wp-content/uploads/2020/09/WhatsApp-Image-2020-09-14-at-09.47.02.jpeg
END:VEVENT
END:VCALENDAR