BEGIN:VCALENDAR
VERSION:2.0
PRODID:-//Planeta Off-Road - ECPv4.6.24.1//NONSGML v1.0//EN
CALSCALE:GREGORIAN
METHOD:PUBLISH
X-WR-CALNAME:Planeta Off-Road
X-ORIGINAL-URL:https://planetaoffroad.com
X-WR-CALDESC:Eventos para Planeta Off-Road
BEGIN:VEVENT
DTSTART;VALUE=DATE:20191214
DTEND;VALUE=DATE:20191215
DTSTAMP:20260421T225407
CREATED:20191204T201822Z
LAST-MODIFIED:20191204T201822Z
UID:3787-1576281600-1576367999@planetaoffroad.com
SUMMARY:Passeio Off-Road Cachoeira do Label
DESCRIPTION:Passeio Off-Road Cachoeira do Label –  Chapada dos Veadeiros \nO evento será um Passeio Off-Road para amantes de 4×4\, SUVs\, Caminhonetes\, com muito contato com a natureza\, convívio familiar\, culinária goiana e paisagens maravilhosas.\nPartiremos de Brasília-DF rumo ao município de São João da Aliança-Goiás\, portal da chapada dos veadeiros\nAproximadamente 140 km de rodovia\nAo chegarmos em São João da Aliança\, entraremos na trilha (Estrada de terra)\, passando por diversos locais com paisagens maravilhosas\, típicas da Chapada dos Veadeiros\, passando por pontes de madeira e travessia do Rio Extrema até a Reserva Ecológica Bellatrix\, onde se encontra a mais alta queda d\’água de Goiás\, a Cachoeira do Label que tem nada menos que 187 metros de altura.\nNosso almoço será na sede da cachoeira\, onde apreciaremos a verdadeira culinária do interior.\nImportante: Veículos 4×2 (SUVs\, Caminhonetes\, Pickups\,) com boa altura do solo também podem participar do evento. \n
URL:https://planetaoffroad.com/index.php/event/passeio-off-road-cachoeira-do-label/
LOCATION:MCDonalds Subida do Colorado – SPMN\, Lt. 2\, Lj. 1\, Brasília DF – Brasília \, DF – Brasil – 73251-010\, SPMN\, Lt. 2\, Lj. 1\, Brasília DF - Brasília \, DF - Brasil - 73251-010\, Brasília\, DF\, 73251-010\, Brasil
CATEGORIES:Passeios e Expedições
ATTACH;FMTTYPE=image/jpeg:https://planetaoffroad.com/wp-content/uploads/2019/12/Banner.jpg
END:VEVENT
END:VCALENDAR