BEGIN:VCALENDAR
VERSION:2.0
PRODID:-//Planeta Off-Road - ECPv4.6.24.1//NONSGML v1.0//EN
CALSCALE:GREGORIAN
METHOD:PUBLISH
X-WR-CALNAME:Planeta Off-Road
X-ORIGINAL-URL:https://planetaoffroad.com
X-WR-CALDESC:Eventos para Planeta Off-Road
BEGIN:VEVENT
DTSTART;TZID=America/Sao_Paulo:20211001T080000
DTEND;TZID=America/Sao_Paulo:20211003T170000
DTSTAMP:20260421T195325
CREATED:20210428T215818Z
LAST-MODIFIED:20210428T215818Z
UID:4909-1633075200-1633280400@planetaoffroad.com
SUMMARY:Rally Barretos 2021
DESCRIPTION:Rally Barretos 2021 \nCross Country e Baja \n
URL:https://planetaoffroad.com/index.php/event/rally-barretos-2021/
LOCATION:Barretos\, Barretos\, São Paulo\, Brasil
CATEGORIES:Rally Cross-Country
ATTACH;FMTTYPE=image/jpeg:https://planetaoffroad.com/wp-content/uploads/2021/04/rally-barretos-2021.jpg
ORGANIZER;CN="Rally%20Makers":MAILTO:secretaria@rallymakers.com.br
END:VEVENT
END:VCALENDAR