BEGIN:VCALENDAR
VERSION:2.0
PRODID:-//Planeta Off-Road - ECPv4.6.24.1//NONSGML v1.0//EN
CALSCALE:GREGORIAN
METHOD:PUBLISH
X-WR-CALNAME:Planeta Off-Road
X-ORIGINAL-URL:https://planetaoffroad.com
X-WR-CALDESC:Eventos para Planeta Off-Road
BEGIN:VEVENT
DTSTART;TZID=America/Sao_Paulo:20201010T080000
DTEND;TZID=America/Sao_Paulo:20201012T170000
DTSTAMP:20260421T195855
CREATED:20200903T160905Z
LAST-MODIFIED:20200903T160905Z
UID:4612-1602316800-1602522000@planetaoffroad.com
SUMMARY:Rally do Cerrado
DESCRIPTION:A 23ª edição do Rally do Cerrado será disputada nos dias 10\, 11 e 12 de outubro. As disputas serão válidas por nove provas do Campeonato Brasileiro de Rally de Regularidade 4×4. \nA novidade para 2020 é que o evento será realizado em três dias de provas\, no entorno de Goiânia (GO). \nA disputa\, que envolve os melhores pilotos e navegadores do Brasil\, acontecerá entre nove estados do Brasil: Goiás\, Brasília\, Minas Gerais\, Paraná\, Mato Grosso \, Santa Catarina\, Rio de Janeiro\, Rio Grande do Sul e São Paulo. \nO tipo do terreno escolhido para essa prova é como os competidores adoram: 60% navial\, 20% Seringueiras e 20% estradinhas com riachos. \nOs Competidores serão distribuídos em sete categorias: Motos\, UTV\, Categoria Light\, Categoria Fashion (feminina)\, além das três classes com o reconhecimento da CBA: Master\, Graduado e Turismo. \nInscrições e Informações: pelo site www.tcgrally.com.br ou pelo whatsapp 62 9 8409 2876. \n
URL:https://planetaoffroad.com/index.php/event/rally-do-cerrado/
LOCATION:Goiânia\, Goiânia\, Goiás\, Brasil
CATEGORIES:Rally de Regularidade
ATTACH;FMTTYPE=image/jpeg:https://planetaoffroad.com/wp-content/uploads/2020/09/cerrado.jpg
END:VEVENT
END:VCALENDAR