BEGIN:VCALENDAR
VERSION:2.0
PRODID:-//Planeta Off-Road - ECPv4.6.24.1//NONSGML v1.0//EN
CALSCALE:GREGORIAN
METHOD:PUBLISH
X-WR-CALNAME:Planeta Off-Road
X-ORIGINAL-URL:https://planetaoffroad.com
X-WR-CALDESC:Eventos para Planeta Off-Road
BEGIN:VEVENT
DTSTART;TZID=America/Sao_Paulo:20181207T133000
DTEND;TZID=America/Sao_Paulo:20181208T180000
DTSTAMP:20260421T225305
CREATED:20181129T195925Z
LAST-MODIFIED:20181129T195925Z
UID:3353-1544189400-1544292000@planetaoffroad.com
SUMMARY:Rally dos Amigos
DESCRIPTION:Programação \nSexta-feira – 07/12\n13h:30 – 18h:00 Secretaria\nLocal: Pavilhão de Exposições da Barra Bonita\n14h00 às 18h30 –Vistoria Motos \, Quadris e UTV\nVistoria CBA: Carros\n14h00 às 15h30 – Apresentação Protótipo-T1\n– Apresentação Production-T2\n– Apresentação Super Production e Pró Brasil\n– Apresentação Caminhões\n17h00 – Apresentação 2ª vistoria (com multa – 1 UP)\n20h00 Briefing \nSábado – 08/12\n07h00 às 7h30 – Secretaria de Prova e – vistoria motos \, quadris e utv\n08h00 – Largada 1ª Moto na especial\n11h00 – Largada 1º Carro na especial\n17h00-Premiação \n
URL:https://planetaoffroad.com/index.php/event/rally-dos-amigos/
LOCATION:Barra Bonita\, Barra Bonita\, São Paulo\, Brasil
CATEGORIES:Rally Cross-Country
ATTACH;FMTTYPE=image/jpeg:https://planetaoffroad.com/wp-content/uploads/2018/11/rally-dos-amigos.jpg
END:VEVENT
END:VCALENDAR