BEGIN:VCALENDAR
VERSION:2.0
PRODID:-//Planeta Off-Road - ECPv4.6.24.1//NONSGML v1.0//EN
CALSCALE:GREGORIAN
METHOD:PUBLISH
X-WR-CALNAME:Planeta Off-Road
X-ORIGINAL-URL:https://planetaoffroad.com
X-WR-CALDESC:Eventos para Planeta Off-Road
BEGIN:VEVENT
DTSTART;TZID=America/Sao_Paulo:20201031T080000
DTEND;TZID=America/Sao_Paulo:20201107T170000
DTSTAMP:20260421T200100
CREATED:20191205T031232Z
LAST-MODIFIED:20200828T212940Z
UID:3791-1604131200-1604768400@planetaoffroad.com
SUMMARY:Rally dos Sertões
DESCRIPTION:Um ano diferente\, pede um Sertões diferente. A 28ª. Edição do maior Rally das Américas traz adaptações relevantes nas suas três dimensões: Esporte\, Social e Turismo. \nO Sertões seguirá um rigoroso protocolo de segurança para garantir um ambiente controlado e interação zero com o público local. As Vilas Sertões serão em formato “bolha”\, montadas em locais isolados\, com acesso restrito apenas aos credenciados (que serão 100% testados com exame PCR). Todos (Equipes\, competidores\, staff e equipe médica) ficarão concentrados dentro da bolha\, em acampamentos e motor homes. Haverá Internet\, banheiros e alimentação a fim de evitar circulação fora da área isolada. \nO Sertões 2020 sai de São Paulo no dia 31/10 e chega no Maranhão dia 07/11. Vai cruzar 5 Estados e o Distrito Federal – SP\, MG\, DF\, GO\, TO e MA. Este ano\, excepcionalmente\, não haverá chegada nas cidades anfitriãs. Toda a caravana se fechará em bolhas – locais isolados\, afastados de adensamento. Esses locais serão mantidos sob sigilo\, a fim de evitar aglomeração. Os locais exatos das bolhas só serão revelados aos competidores na véspera. Todos seguirão por uma rota pré-estabelecida e monitorada. \n
URL:https://planetaoffroad.com/index.php/event/rally-dos-sertoes-2/
LOCATION:São Paulo/SP
CATEGORIES:Rally Cross-Country
ATTACH;FMTTYPE=image/jpeg:https://planetaoffroad.com/wp-content/uploads/2018/11/evento_sertoes.jpg
END:VEVENT
END:VCALENDAR