BEGIN:VCALENDAR
VERSION:2.0
PRODID:-//Planeta Off-Road - ECPv4.6.24.1//NONSGML v1.0//EN
CALSCALE:GREGORIAN
METHOD:PUBLISH
X-WR-CALNAME:Planeta Off-Road
X-ORIGINAL-URL:https://planetaoffroad.com
X-WR-CALDESC:Eventos para Planeta Off-Road
BEGIN:VEVENT
DTSTART;TZID=America/Sao_Paulo:20181208T080000
DTEND;TZID=America/Sao_Paulo:20181209T170000
DTSTAMP:20260421T211459
CREATED:20181105T210016Z
LAST-MODIFIED:20181106T154015Z
UID:3223-1544256000-1544374800@planetaoffroad.com
SUMMARY:Suzuki Day
DESCRIPTION:O suzuki day é um passeio divertido para toda a sua família. Não se trata de uma competição\, por isso dispensa a planilha de navegação e é ideal para conhecer novos lugares e curtir um final de semana com a família e amigos. São abertas duas turmas por etapa\, uma ao sábado e outra ao domingo\, ambas com a mesma programação e trilha. Proprietários de jimny\, novo vitara\, grand vitara 4×4\, s-cross 4×4\, sx4 4×4\, vitara (até 2000)\, sidekick e samurai podem participar deste evento\, em que é necessário um piloto acima de 18 anos com cnh válida. A idade dos demais acompanhantes é livre. A “taxa” de participação são doações destinadas a instituições de caridade da região onde a prova será realizada. Os itens a serem doados serão divulgados antecipadamente á cada etapa. \n
URL:https://planetaoffroad.com/index.php/event/suzuki-day/
LOCATION:Ibitipoca/MG\, Ibitipoca\, Minas Gerais\, Brasil
CATEGORIES:Passeios e Expedições
ATTACH;FMTTYPE=image/jpeg:https://planetaoffroad.com/wp-content/uploads/2018/08/suzuki_day.jpg
END:VEVENT
END:VCALENDAR