BEGIN:VCALENDAR
VERSION:2.0
PRODID:-//Planeta Off-Road - ECPv4.6.24.1//NONSGML v1.0//EN
CALSCALE:GREGORIAN
METHOD:PUBLISH
X-WR-CALNAME:Planeta Off-Road
X-ORIGINAL-URL:https://planetaoffroad.com
X-WR-CALDESC:Eventos para Planeta Off-Road
BEGIN:VEVENT
DTSTART;TZID=America/Sao_Paulo:20200205T130000
DTEND;TZID=America/Sao_Paulo:20200208T170000
DTSTAMP:20260421T211458
CREATED:20191205T033331Z
LAST-MODIFIED:20191205T033331Z
UID:3802-1580907600-1581181200@planetaoffroad.com
SUMMARY:Transparaná 2020
DESCRIPTION:Participar é uma aventura\, Ganhar é um desafio !\n.\nComo diz o ditado que em time que esta ganhando não se mexe\,\nmais uma vez o Jeep Clube de Curitiba firma parceria para a realização\nda 26ª Edição do Transparaná com o experiente Organizador Vander Hirt\,\no Fritão. Toda a Organização e parte técnica das 4 categorias do Rally estarão\nno comando do Fritão. A novidade para 2020\, que a Diretoria do Jeep Clube de Curitiba\,\nComandada pelo Pres. Allan\, estará na organização da categoria ADVENTURE. Um Trilhão em comboio pela bela região do Estado do Paraná. \nA primeira cidade hospedeira deste grande evento\, será novamente Guarapuava.\nCidade estratégica e central no nosso Estado\, que hospedou tão bem o comboio\nTransparana no ano passado. As outras 2 cidades antes de chegar no dia 08 em Curitiba\nserão estrategicamente escolhidas para mais um vez fazer um dos Melhores Rallys\nDo Brasil\, com poucos deslocamentos e muito trecho navegável. \nA prova largará na quarta feira dia 05 de fevereiro as 13h retornando no final\nda tarde com premiação em Guarapuava.\nAs outras 2 cidades dos dias 6 e 7 de fevereiro\, serão divulgadas dentro de no\nmáximo 30 dias. A chegada já esta programada com festa de premiação final na\ncidade de Curitiba\, no dia 08 de fevereiro. \n
URL:https://planetaoffroad.com/index.php/event/transparana-2020/
LOCATION:Guarapuava/PR\, Guarapuava\, Paraná\, Brasil
CATEGORIES:Rally de Regularidade
ATTACH;FMTTYPE=image/png:https://planetaoffroad.com/wp-content/uploads/2019/12/transparana.png
END:VEVENT
END:VCALENDAR