BEGIN:VCALENDAR
VERSION:2.0
PRODID:-//Planeta Off-Road - ECPv4.6.24.1//NONSGML v1.0//EN
CALSCALE:GREGORIAN
METHOD:PUBLISH
X-WR-CALNAME:Planeta Off-Road
X-ORIGINAL-URL:https://planetaoffroad.com
X-WR-CALDESC:Eventos para Planeta Off-Road
BEGIN:VEVENT
DTSTART;TZID=America/Sao_Paulo:20191207T080000
DTEND;TZID=America/Sao_Paulo:20191207T170000
DTSTAMP:20260421T224357
CREATED:20191111T215023Z
LAST-MODIFIED:20191111T215023Z
UID:3708-1575705600-1575738000@planetaoffroad.com
SUMMARY:Trilhão do Queixada
DESCRIPTION:
URL:https://planetaoffroad.com/index.php/event/trilhao-do-queixada/
LOCATION:Sinop\, Sinop\, Mato Grosso\, Brasil
CATEGORIES:Passeios e Expedições
ATTACH;FMTTYPE=image/jpeg:https://planetaoffroad.com/wp-content/uploads/2019/11/evento_trilhaoqueixada.jpg
END:VEVENT
END:VCALENDAR